BEGIN:VCALENDAR
VERSION:2.0
PRODID:-//time.now/holidays//NONSGML v1.0//EN
BEGIN:VEVENT
UID:c0c63ae0-20ad-469a-9321-798e6707d11b
DTSTAMP:20260420T161020Z
DTSTART;VALUE=DATE:20260509
SUMMARY:Liberation Day (Guernsey)
END:VEVENT
END:VCALENDAR