BEGIN:VCALENDAR
VERSION:2.0
PRODID:-//time.now/holidays//NONSGML v1.0//EN
BEGIN:VEVENT
UID:e5570dc2-f029-48d9-b77d-95226a266676
DTSTAMP:20260420T032841Z
DTSTART;VALUE=DATE:20261226
SUMMARY:Boxing Day (Guernsey)
END:VEVENT
END:VCALENDAR