BEGIN:VCALENDAR
VERSION:2.0
PRODID:-//time.now/holidays//NONSGML v1.0//EN
BEGIN:VEVENT
UID:a97df9e8-b7d5-49c0-8adf-d54c96f9d644
DTSTAMP:20260420T010436Z
DTSTART;VALUE=DATE:20281110
SUMMARY:Veterans Day (observed) (Guam)
END:VEVENT
END:VCALENDAR