BEGIN:VCALENDAR
VERSION:2.0
PRODID:-//time.now/holidays//NONSGML v1.0//EN
BEGIN:VEVENT
UID:fa435dbb-2bef-42d4-9ff8-e5809231ff70
DTSTAMP:20260420T123425Z
DTSTART;VALUE=DATE:20260101
SUMMARY:New Year's Day (Guam)
END:VEVENT
END:VCALENDAR