BEGIN:VCALENDAR
VERSION:2.0
PRODID:-//time.now/holidays//NONSGML v1.0//EN
BEGIN:VEVENT
UID:a48de389-5be6-4ea1-88f0-590c66e515b3
DTSTAMP:20260420T060111Z
DTSTART;VALUE=DATE:20260704
SUMMARY:Independence Day (Guam)
END:VEVENT
END:VCALENDAR