BEGIN:VCALENDAR
VERSION:2.0
PRODID:-//time.now/holidays//NONSGML v1.0//EN
BEGIN:VEVENT
UID:0cf97a0a-894c-403e-b00f-acdc2ba9448b
DTSTAMP:20260420T125943Z
DTSTART;VALUE=DATE:20260302
SUMMARY:Guam Discovery Day (Guam)
END:VEVENT
END:VCALENDAR