BEGIN:VCALENDAR
VERSION:2.0
PRODID:-//time.now/holidays//NONSGML v1.0//EN
BEGIN:VEVENT
UID:548c3c6b-a3c6-41d7-891a-3794fbb581b2
DTSTAMP:20260420T134824Z
DTSTART;VALUE=DATE:20261102
SUMMARY:All Souls' Day (Guam)
END:VEVENT
END:VCALENDAR