BEGIN:VCALENDAR
VERSION:2.0
PRODID:-//time.now/holidays//NONSGML v1.0//EN
BEGIN:VEVENT
UID:f0197b5e-7532-4f49-82c9-da422b47a66a
DTSTAMP:20260420T154015Z
DTSTART;VALUE=DATE:20261019
SUMMARY:National Heroes' Day (Granada)
END:VEVENT
END:VCALENDAR