BEGIN:VCALENDAR
VERSION:2.0
PRODID:-//time.now/holidays//NONSGML v1.0//EN
BEGIN:VEVENT
UID:7e8118a2-0544-49a0-bbd2-ed2557d5a660
DTSTAMP:20260419T172313Z
DTSTART;VALUE=DATE:20260403
SUMMARY:Good Friday (Granada)
END:VEVENT
END:VCALENDAR