BEGIN:VCALENDAR
VERSION:2.0
PRODID:-//time.now/holidays//NONSGML v1.0//EN
BEGIN:VEVENT
UID:cc3eed51-a843-49cd-b5cf-ee11b6cecf50
DTSTAMP:20260420T030157Z
DTSTART;VALUE=DATE:20261226
SUMMARY:Boxing Day (Granada)
END:VEVENT
END:VCALENDAR