BEGIN:VCALENDAR
VERSION:2.0
PRODID:-//time.now/holidays//NONSGML v1.0//EN
BEGIN:VEVENT
UID:06d4f127-e180-4841-8885-661f9cb17a6a
DTSTAMP:20260420T191228Z
DTSTART;VALUE=DATE:20260101
SUMMARY:New Year's Day (Groenlandia)
END:VEVENT
END:VCALENDAR