BEGIN:VCALENDAR
VERSION:2.0
PRODID:-//time.now/holidays//NONSGML v1.0//EN
BEGIN:VEVENT
UID:a0e76888-4117-4a90-a214-328fee888f5a
DTSTAMP:20260420T111320Z
DTSTART;VALUE=DATE:20260101
SUMMARY:New Year's Day (Grecia)
END:VEVENT
END:VCALENDAR