BEGIN:VCALENDAR
VERSION:2.0
PRODID:-//time.now/holidays//NONSGML v1.0//EN
BEGIN:VEVENT
UID:e1766faa-9908-41bc-a342-0ee05bb7117b
DTSTAMP:20260420T001040Z
DTSTART;VALUE=DATE:20260410
SUMMARY:Good Friday (Grecia)
END:VEVENT
END:VCALENDAR