BEGIN:VCALENDAR
VERSION:2.0
PRODID:-//time.now/holidays//NONSGML v1.0//EN
BEGIN:VEVENT
UID:d48ffff7-c46b-46a4-b598-beb231f70250
DTSTAMP:20260419T202840Z
DTSTART;VALUE=DATE:20260413
SUMMARY:Easter Monday (Grecia)
END:VEVENT
END:VCALENDAR