BEGIN:VCALENDAR
VERSION:2.0
PRODID:-//time.now/holidays//NONSGML v1.0//EN
BEGIN:VEVENT
UID:16c38c26-99b6-46ad-8c12-bbe0466266c9
DTSTAMP:20260420T205212Z
DTSTART;VALUE=DATE:20280103
SUMMARY:New Year's Day (observed) (Ghana)
END:VEVENT
END:VCALENDAR