BEGIN:VCALENDAR
VERSION:2.0
PRODID:-//time.now/holidays//NONSGML v1.0//EN
BEGIN:VEVENT
UID:bda84fea-d61c-4b95-b47b-2389bdd1a218
DTSTAMP:20260420T115203Z
DTSTART;VALUE=DATE:20270503
SUMMARY:May Day (observed) (Ghana)
END:VEVENT
END:VCALENDAR