BEGIN:VCALENDAR
VERSION:2.0
PRODID:-//time.now/holidays//NONSGML v1.0//EN
BEGIN:VEVENT
UID:d3f0f032-9509-4ac6-9cd0-1b5977c558b9
DTSTAMP:20260422T093408Z
DTSTART;VALUE=DATE:20260921
SUMMARY:Kwame Nkrumah Memorial Day (Ghana)
END:VEVENT
END:VCALENDAR