BEGIN:VCALENDAR
VERSION:2.0
PRODID:-//time.now/holidays//NONSGML v1.0//EN
BEGIN:VEVENT
UID:64182595-2f41-4872-a95b-ef07a04446b2
DTSTAMP:20260421T005745Z
DTSTART;VALUE=DATE:20300923
SUMMARY:Kwame Nkrumah Memorial Day (observed) (Ghana)
END:VEVENT
END:VCALENDAR