BEGIN:VCALENDAR
VERSION:2.0
PRODID:-//time.now/holidays//NONSGML v1.0//EN
BEGIN:VEVENT
UID:6fd301d4-9f69-4bd1-8557-241768e72e29
DTSTAMP:20260420T093928Z
DTSTART;VALUE=DATE:20260804
SUMMARY:Founders' Day (Ghana)
END:VEVENT
END:VCALENDAR