BEGIN:VCALENDAR
VERSION:2.0
PRODID:-//time.now/holidays//NONSGML v1.0//EN
BEGIN:VEVENT
UID:f52b62d0-aec1-4517-9366-93a4af4e7a1c
DTSTAMP:20260420T142044Z
DTSTART;VALUE=DATE:20290806
SUMMARY:Founders' Day (observed) (Ghana)
END:VEVENT
END:VCALENDAR