BEGIN:VCALENDAR
VERSION:2.0
PRODID:-//time.now/holidays//NONSGML v1.0//EN
BEGIN:VEVENT
UID:657dff87-553a-43c4-ba89-4cec91aac731
DTSTAMP:20260420T215135Z
DTSTART;VALUE=DATE:20280228
SUMMARY:Eid ul-Fitr (observed, estimated) (Ghana)
END:VEVENT
END:VCALENDAR