BEGIN:VCALENDAR
VERSION:2.0
PRODID:-//time.now/holidays//NONSGML v1.0//EN
BEGIN:VEVENT
UID:90ea769e-4e21-4d4f-bb14-8fb3b74f022d
DTSTAMP:20260420T063329Z
DTSTART;VALUE=DATE:20290108
SUMMARY:Constitution Day (observed) (Ghana)
END:VEVENT
END:VCALENDAR