BEGIN:VCALENDAR
VERSION:2.0
PRODID:-//time.now/holidays//NONSGML v1.0//EN
BEGIN:VEVENT
UID:9a6c9893-d062-4304-acb0-fb5a145b22e9
DTSTAMP:20260420T162402Z
DTSTART;VALUE=DATE:20261228
SUMMARY:Boxing Day (observed) (Ghana)
END:VEVENT
END:VCALENDAR