BEGIN:VCALENDAR
VERSION:2.0
PRODID:-//time.now/holidays//NONSGML v1.0//EN
BEGIN:VEVENT
UID:b2c1cf05-0963-450a-af33-3acf4ef2007b
DTSTAMP:20260420T212522Z
DTSTART;VALUE=DATE:20261226
SUMMARY:Second Day of Christmas (Alemania)
END:VEVENT
END:VCALENDAR