BEGIN:VCALENDAR
VERSION:2.0
PRODID:-//time.now/holidays//NONSGML v1.0//EN
BEGIN:VEVENT
UID:56a5e90c-67a3-421d-93ce-9110fb11e7f1
DTSTAMP:20260420T100606Z
DTSTART;VALUE=DATE:20260101
SUMMARY:New Year's Day (Alemania)
END:VEVENT
END:VCALENDAR