BEGIN:VCALENDAR
VERSION:2.0
PRODID:-//time.now/holidays//NONSGML v1.0//EN
BEGIN:VEVENT
UID:7db3fe77-14a0-4f71-8736-fa44a52ac55d
DTSTAMP:20260420T004045Z
DTSTART;VALUE=DATE:20260403
SUMMARY:Good Friday (Alemania)
END:VEVENT
END:VCALENDAR