BEGIN:VCALENDAR
VERSION:2.0
PRODID:-//time.now/holidays//NONSGML v1.0//EN
BEGIN:VEVENT
UID:d85c2c3e-8b94-4e35-b7b9-27628a583dd8
DTSTAMP:20260420T024348Z
DTSTART;VALUE=DATE:20260815
SUMMARY:Assumption Day (Alemania)
END:VEVENT
END:VCALENDAR