BEGIN:VCALENDAR
VERSION:2.0
PRODID:-//time.now/holidays//NONSGML v1.0//EN
BEGIN:VEVENT
UID:0574a6da-294c-401c-99ad-d313187b31e9
DTSTAMP:20260420T054957Z
DTSTART;VALUE=DATE:20260526
SUMMARY:Independence Day (Georgia)
END:VEVENT
END:VCALENDAR