BEGIN:VCALENDAR
VERSION:2.0
PRODID:-//time.now/holidays//NONSGML v1.0//EN
BEGIN:VEVENT
UID:986c0bbb-36ac-4ef4-b302-eb0c236c0e66
DTSTAMP:20260420T164951Z
DTSTART;VALUE=DATE:20260411
SUMMARY:Holy Saturday (Georgia)
END:VEVENT
END:VCALENDAR