BEGIN:VCALENDAR
VERSION:2.0
PRODID:-//time.now/holidays//NONSGML v1.0//EN
BEGIN:VEVENT
UID:25d8bca1-94a2-4a81-a932-3d7314f5587b
DTSTAMP:20260420T010645Z
DTSTART;VALUE=DATE:20260413
SUMMARY:Easter Monday (Georgia)
END:VEVENT
END:VCALENDAR