BEGIN:VCALENDAR
VERSION:2.0
PRODID:-//time.now/holidays//NONSGML v1.0//EN
BEGIN:VEVENT
UID:b7dd39dd-4775-4e6d-a078-d06c3c8f0ee6
DTSTAMP:20260420T192000Z
DTSTART;VALUE=DATE:20260320
SUMMARY:Eid al-Fitr (estimated) (Gabón)
END:VEVENT
END:VCALENDAR