BEGIN:VCALENDAR
VERSION:2.0
PRODID:-//time.now/holidays//NONSGML v1.0//EN
BEGIN:VEVENT
UID:0e9e2e79-1b5a-4129-91b4-b27e0df27522
DTSTAMP:20260420T081158Z
DTSTART;VALUE=DATE:20260815
SUMMARY:Assumption Day (Gabón)
END:VEVENT
END:VCALENDAR