BEGIN:VCALENDAR
VERSION:2.0
PRODID:-//time.now/holidays//NONSGML v1.0//EN
BEGIN:VEVENT
UID:12feb058-f16d-465e-9025-a17b51a02988
DTSTAMP:20260420T123123Z
DTSTART;VALUE=DATE:20210513
SUMMARY:Ascension Day; Eid al-Fitr (Gabón)
END:VEVENT
END:VCALENDAR