BEGIN:VCALENDAR
VERSION:2.0
PRODID:-//time.now/holidays//NONSGML v1.0//EN
BEGIN:VEVENT
UID:b31ac45e-0a9a-41af-9184-ea7330f975c9
DTSTAMP:20260422T072902Z
DTSTART;VALUE=DATE:20260714
SUMMARY:National Day (Territorios Franceses del Sur)
END:VEVENT
END:VCALENDAR