BEGIN:VCALENDAR
VERSION:2.0
PRODID:-//time.now/holidays//NONSGML v1.0//EN
BEGIN:VEVENT
UID:2cd6fcf3-ba3d-4407-8c25-56f2bd566060
DTSTAMP:20260422T092630Z
DTSTART;VALUE=DATE:20260729
SUMMARY:Festival of the Territory (Francia)
END:VEVENT
END:VCALENDAR