BEGIN:VCALENDAR
VERSION:2.0
PRODID:-//time.now/holidays//NONSGML v1.0//EN
BEGIN:VEVENT
UID:59a34d03-4b83-40ae-aa69-be2990f1ceb3
DTSTAMP:20260422T091605Z
DTSTART;VALUE=DATE:20260428
SUMMARY:Feast of Saint Peter Chanel (Francia)
END:VEVENT
END:VCALENDAR