BEGIN:VCALENDAR
VERSION:2.0
PRODID:-//time.now/holidays//NONSGML v1.0//EN
BEGIN:VEVENT
UID:474ab03f-e8f4-4714-812d-a9ca97340324
DTSTAMP:20260420T142440Z
DTSTART;VALUE=DATE:20261111
SUMMARY:Armistice Day (Francia)
END:VEVENT
END:VCALENDAR