BEGIN:VCALENDAR
VERSION:2.0
PRODID:-//time.now/holidays//NONSGML v1.0//EN
BEGIN:VEVENT
UID:dd277382-f8d7-46db-b707-536361c9f660
DTSTAMP:20260420T015740Z
DTSTART;VALUE=DATE:20260620
SUMMARY:Midsummer Day (Finlandia)
END:VEVENT
END:VCALENDAR