BEGIN:VCALENDAR
VERSION:2.0
PRODID:-//time.now/holidays//NONSGML v1.0//EN
BEGIN:VEVENT
UID:aa4c5458-5178-448c-be29-0852c6c77a3d
DTSTAMP:20260420T031649Z
DTSTART;VALUE=DATE:20260406
SUMMARY:Easter Monday (Finlandia)
END:VEVENT
END:VCALENDAR