BEGIN:VCALENDAR
VERSION:2.0
PRODID:-//time.now/holidays//NONSGML v1.0//EN
BEGIN:VEVENT
UID:5bcc4546-ebf2-490a-94a8-987ddb271a39
DTSTAMP:20260420T180613Z
DTSTART;VALUE=DATE:20261031
SUMMARY:All Saints' Day (Finlandia)
END:VEVENT
END:VCALENDAR