BEGIN:VCALENDAR
VERSION:2.0
PRODID:-//time.now/holidays//NONSGML v1.0//EN
BEGIN:VEVENT
UID:d94bdb46-457e-41c0-84d5-e2ca1b03ba8e
DTSTAMP:20260420T132552Z
DTSTART;VALUE=DATE:20250906
SUMMARY:Prophet Mohammed's Birthday (Fiyi)
END:VEVENT
END:VCALENDAR