BEGIN:VCALENDAR
VERSION:2.0
PRODID:-//time.now/holidays//NONSGML v1.0//EN
BEGIN:VEVENT
UID:457acf67-3609-4c94-b4c0-34e634366880
DTSTAMP:20260420T191701Z
DTSTART;VALUE=DATE:20260825
SUMMARY:Prophet Mohammed's Birthday (estimated) (Fiyi)
END:VEVENT
END:VCALENDAR