BEGIN:VCALENDAR
VERSION:2.0
PRODID:-//time.now/holidays//NONSGML v1.0//EN
BEGIN:VEVENT
UID:a65076df-e0b4-4819-98f8-df73efa3b251
DTSTAMP:20260420T035105Z
DTSTART;VALUE=DATE:20260404
SUMMARY:Easter Saturday (Fiyi)
END:VEVENT
END:VCALENDAR