BEGIN:VCALENDAR
VERSION:2.0
PRODID:-//time.now/holidays//NONSGML v1.0//EN
BEGIN:VEVENT
UID:0548b1cf-c3b3-4f10-bb53-8b3db9602641
DTSTAMP:20260419T213603Z
DTSTART;VALUE=DATE:20260406
SUMMARY:Easter Monday (Fiyi)
END:VEVENT
END:VCALENDAR