BEGIN:VCALENDAR
VERSION:2.0
PRODID:-//time.now/holidays//NONSGML v1.0//EN
BEGIN:VEVENT
UID:080d0df5-9a36-417d-a1de-5eef6175ecbb
DTSTAMP:20260420T184612Z
DTSTART;VALUE=DATE:20261109
SUMMARY:Diwali (observed, estimated) (Fiyi)
END:VEVENT
END:VCALENDAR