BEGIN:VCALENDAR
VERSION:2.0
PRODID:-//time.now/holidays//NONSGML v1.0//EN
BEGIN:VEVENT
UID:c0027fa5-69cf-4d8b-9a18-075ea15b18d9
DTSTAMP:20260419T232154Z
DTSTART;VALUE=DATE:20220907
SUMMARY:Constitution Day (Fiyi)
END:VEVENT
END:VCALENDAR