BEGIN:VCALENDAR
VERSION:2.0
PRODID:-//time.now/holidays//NONSGML v1.0//EN
BEGIN:VEVENT
UID:58386114-a603-46ad-8693-787d37550ec4
DTSTAMP:20260420T044721Z
DTSTART;VALUE=DATE:20261226
SUMMARY:Boxing Day (Fiyi)
END:VEVENT
END:VCALENDAR