BEGIN:VCALENDAR
VERSION:2.0
PRODID:-//time.now/holidays//NONSGML v1.0//EN
BEGIN:VEVENT
UID:5aa03581-3269-498a-8756-b18fe5a08b90
DTSTAMP:20260420T095821Z
DTSTART;VALUE=DATE:20260907
SUMMARY:Independence Day (observed) (Esuatini)
END:VEVENT
END:VCALENDAR