BEGIN:VCALENDAR
VERSION:2.0
PRODID:-//time.now/holidays//NONSGML v1.0//EN
BEGIN:VEVENT
UID:a9147362-49a1-4c86-a2c8-66ac0c02f7e8
DTSTAMP:20260422T013847Z
DTSTART;VALUE=DATE:20260722
SUMMARY:Birthday of Late King Sobhuza (Esuatini)
END:VEVENT
END:VCALENDAR