BEGIN:VCALENDAR
VERSION:2.0
PRODID:-//time.now/holidays//NONSGML v1.0//EN
BEGIN:VEVENT
UID:007e7772-1b2d-4e2b-9cc5-4bc071bbe88e
DTSTAMP:20260421T125933Z
DTSTART;VALUE=DATE:20260623
SUMMARY:Victory Day (Estonia)
END:VEVENT
END:VCALENDAR